BEGIN:VCALENDAR
VERSION:2.0
PRODID:-//destination.one//NONSGML destination.meta API//DE
X-WR-CALDESC:A calendar powered by destination.meta
X-WR-CALNAME:kult-muelheim Kalender via destination.meta
BEGIN:VEVENT
CATEGORIES:Ausstellung
DESCRIPTION:\n\nmehr Informationen unter http://pages.destination.one/de/ku
 lt-muelheim/streaming/detail/Event/e_101249484/wir-suchen-noch-soldaten-ei
 ne-zeitkritische-auseinandersetzung-mit-krieg
DTEND;TZID=Europe/Berlin;VALUE=DATE:20260420
DTSTAMP:20260421T082942Z
DTSTART;TZID=Europe/Berlin;VALUE=DATE:20260419
GEO:51.426079;6.878420
LOCATION:MMKM Museum Moderne Kunst Mülheim\, Ruhrstr. 3\, Ecke Delle - Ruhr
 anlage\, Mülheim an der Ruhr
SEQUENCE:0
SUMMARY:WIR SUCHEN NOCH SOLDATEN! „Eine zeitkritische Auseinandersetzung mi
 t Krieg“
UID:e_101249484_iv0
URL:http://pages.destination.one/de/kult-muelheim/streaming/detail/Event/e_
 101249484/wir-suchen-noch-soldaten-eine-zeitkritische-auseinandersetzung-m
 it-krieg
END:VEVENT
BEGIN:VEVENT
CATEGORIES:Ausstellung
DESCRIPTION:\n\nmehr Informationen unter http://pages.destination.one/de/ku
 lt-muelheim/streaming/detail/Event/e_101249484/wir-suchen-noch-soldaten-ei
 ne-zeitkritische-auseinandersetzung-mit-krieg
DTEND;TZID=Europe/Berlin;VALUE=DATE:20260421
DTSTAMP:20260421T082942Z
DTSTART;TZID=Europe/Berlin;VALUE=DATE:20260420
GEO:51.426079;6.878420
LOCATION:MMKM Museum Moderne Kunst Mülheim\, Ruhrstr. 3\, Ecke Delle - Ruhr
 anlage\, Mülheim an der Ruhr
SEQUENCE:0
SUMMARY:WIR SUCHEN NOCH SOLDATEN! „Eine zeitkritische Auseinandersetzung mi
 t Krieg“
UID:e_101249484_iv1
URL:http://pages.destination.one/de/kult-muelheim/streaming/detail/Event/e_
 101249484/wir-suchen-noch-soldaten-eine-zeitkritische-auseinandersetzung-m
 it-krieg
END:VEVENT
BEGIN:VEVENT
CATEGORIES:Ausstellung
DESCRIPTION:\n\nmehr Informationen unter http://pages.destination.one/de/ku
 lt-muelheim/streaming/detail/Event/e_101249484/wir-suchen-noch-soldaten-ei
 ne-zeitkritische-auseinandersetzung-mit-krieg
DTEND;TZID=Europe/Berlin;VALUE=DATE:20260422
DTSTAMP:20260421T082942Z
DTSTART;TZID=Europe/Berlin;VALUE=DATE:20260421
GEO:51.426079;6.878420
LOCATION:MMKM Museum Moderne Kunst Mülheim\, Ruhrstr. 3\, Ecke Delle - Ruhr
 anlage\, Mülheim an der Ruhr
SEQUENCE:0
SUMMARY:WIR SUCHEN NOCH SOLDATEN! „Eine zeitkritische Auseinandersetzung mi
 t Krieg“
UID:e_101249484_iv2
URL:http://pages.destination.one/de/kult-muelheim/streaming/detail/Event/e_
 101249484/wir-suchen-noch-soldaten-eine-zeitkritische-auseinandersetzung-m
 it-krieg
END:VEVENT
BEGIN:VEVENT
CATEGORIES:Ausstellung
DESCRIPTION:\n\nmehr Informationen unter http://pages.destination.one/de/ku
 lt-muelheim/streaming/detail/Event/e_101249484/wir-suchen-noch-soldaten-ei
 ne-zeitkritische-auseinandersetzung-mit-krieg
DTEND;TZID=Europe/Berlin;VALUE=DATE:20260423
DTSTAMP:20260421T082942Z
DTSTART;TZID=Europe/Berlin;VALUE=DATE:20260422
GEO:51.426079;6.878420
LOCATION:MMKM Museum Moderne Kunst Mülheim\, Ruhrstr. 3\, Ecke Delle - Ruhr
 anlage\, Mülheim an der Ruhr
SEQUENCE:0
SUMMARY:WIR SUCHEN NOCH SOLDATEN! „Eine zeitkritische Auseinandersetzung mi
 t Krieg“
UID:e_101249484_iv3
URL:http://pages.destination.one/de/kult-muelheim/streaming/detail/Event/e_
 101249484/wir-suchen-noch-soldaten-eine-zeitkritische-auseinandersetzung-m
 it-krieg
END:VEVENT
BEGIN:VEVENT
CATEGORIES:Ausstellung
DESCRIPTION:\n\nmehr Informationen unter http://pages.destination.one/de/ku
 lt-muelheim/streaming/detail/Event/e_101249484/wir-suchen-noch-soldaten-ei
 ne-zeitkritische-auseinandersetzung-mit-krieg
DTEND;TZID=Europe/Berlin;VALUE=DATE:20260424
DTSTAMP:20260421T082942Z
DTSTART;TZID=Europe/Berlin;VALUE=DATE:20260423
GEO:51.426079;6.878420
LOCATION:MMKM Museum Moderne Kunst Mülheim\, Ruhrstr. 3\, Ecke Delle - Ruhr
 anlage\, Mülheim an der Ruhr
SEQUENCE:0
SUMMARY:WIR SUCHEN NOCH SOLDATEN! „Eine zeitkritische Auseinandersetzung mi
 t Krieg“
UID:e_101249484_iv4
URL:http://pages.destination.one/de/kult-muelheim/streaming/detail/Event/e_
 101249484/wir-suchen-noch-soldaten-eine-zeitkritische-auseinandersetzung-m
 it-krieg
END:VEVENT
BEGIN:VEVENT
CATEGORIES:Ausstellung
DESCRIPTION:\n\nmehr Informationen unter http://pages.destination.one/de/ku
 lt-muelheim/streaming/detail/Event/e_101249484/wir-suchen-noch-soldaten-ei
 ne-zeitkritische-auseinandersetzung-mit-krieg
DTEND;TZID=Europe/Berlin;VALUE=DATE:20260425
DTSTAMP:20260421T082942Z
DTSTART;TZID=Europe/Berlin;VALUE=DATE:20260424
GEO:51.426079;6.878420
LOCATION:MMKM Museum Moderne Kunst Mülheim\, Ruhrstr. 3\, Ecke Delle - Ruhr
 anlage\, Mülheim an der Ruhr
SEQUENCE:0
SUMMARY:WIR SUCHEN NOCH SOLDATEN! „Eine zeitkritische Auseinandersetzung mi
 t Krieg“
UID:e_101249484_iv5
URL:http://pages.destination.one/de/kult-muelheim/streaming/detail/Event/e_
 101249484/wir-suchen-noch-soldaten-eine-zeitkritische-auseinandersetzung-m
 it-krieg
END:VEVENT
BEGIN:VEVENT
CATEGORIES:Ausstellung
DESCRIPTION:\n\nmehr Informationen unter http://pages.destination.one/de/ku
 lt-muelheim/streaming/detail/Event/e_101249484/wir-suchen-noch-soldaten-ei
 ne-zeitkritische-auseinandersetzung-mit-krieg
DTEND;TZID=Europe/Berlin;VALUE=DATE:20260426
DTSTAMP:20260421T082942Z
DTSTART;TZID=Europe/Berlin;VALUE=DATE:20260425
GEO:51.426079;6.878420
LOCATION:MMKM Museum Moderne Kunst Mülheim\, Ruhrstr. 3\, Ecke Delle - Ruhr
 anlage\, Mülheim an der Ruhr
SEQUENCE:0
SUMMARY:WIR SUCHEN NOCH SOLDATEN! „Eine zeitkritische Auseinandersetzung mi
 t Krieg“
UID:e_101249484_iv6
URL:http://pages.destination.one/de/kult-muelheim/streaming/detail/Event/e_
 101249484/wir-suchen-noch-soldaten-eine-zeitkritische-auseinandersetzung-m
 it-krieg
END:VEVENT
BEGIN:VEVENT
CATEGORIES:Ausstellung
DESCRIPTION:\n\nmehr Informationen unter http://pages.destination.one/de/ku
 lt-muelheim/streaming/detail/Event/e_101249484/wir-suchen-noch-soldaten-ei
 ne-zeitkritische-auseinandersetzung-mit-krieg
DTEND;TZID=Europe/Berlin;VALUE=DATE:20260427
DTSTAMP:20260421T082942Z
DTSTART;TZID=Europe/Berlin;VALUE=DATE:20260426
GEO:51.426079;6.878420
LOCATION:MMKM Museum Moderne Kunst Mülheim\, Ruhrstr. 3\, Ecke Delle - Ruhr
 anlage\, Mülheim an der Ruhr
SEQUENCE:0
SUMMARY:WIR SUCHEN NOCH SOLDATEN! „Eine zeitkritische Auseinandersetzung mi
 t Krieg“
UID:e_101249484_iv7
URL:http://pages.destination.one/de/kult-muelheim/streaming/detail/Event/e_
 101249484/wir-suchen-noch-soldaten-eine-zeitkritische-auseinandersetzung-m
 it-krieg
END:VEVENT
BEGIN:VEVENT
CATEGORIES:Ausstellung
DESCRIPTION:\n\nmehr Informationen unter http://pages.destination.one/de/ku
 lt-muelheim/streaming/detail/Event/e_101249484/wir-suchen-noch-soldaten-ei
 ne-zeitkritische-auseinandersetzung-mit-krieg
DTEND;TZID=Europe/Berlin;VALUE=DATE:20260428
DTSTAMP:20260421T082942Z
DTSTART;TZID=Europe/Berlin;VALUE=DATE:20260427
GEO:51.426079;6.878420
LOCATION:MMKM Museum Moderne Kunst Mülheim\, Ruhrstr. 3\, Ecke Delle - Ruhr
 anlage\, Mülheim an der Ruhr
SEQUENCE:0
SUMMARY:WIR SUCHEN NOCH SOLDATEN! „Eine zeitkritische Auseinandersetzung mi
 t Krieg“
UID:e_101249484_iv8
URL:http://pages.destination.one/de/kult-muelheim/streaming/detail/Event/e_
 101249484/wir-suchen-noch-soldaten-eine-zeitkritische-auseinandersetzung-m
 it-krieg
END:VEVENT
BEGIN:VEVENT
CATEGORIES:Ausstellung
DESCRIPTION:\n\nmehr Informationen unter http://pages.destination.one/de/ku
 lt-muelheim/streaming/detail/Event/e_101249484/wir-suchen-noch-soldaten-ei
 ne-zeitkritische-auseinandersetzung-mit-krieg
DTEND;TZID=Europe/Berlin;VALUE=DATE:20260429
DTSTAMP:20260421T082942Z
DTSTART;TZID=Europe/Berlin;VALUE=DATE:20260428
GEO:51.426079;6.878420
LOCATION:MMKM Museum Moderne Kunst Mülheim\, Ruhrstr. 3\, Ecke Delle - Ruhr
 anlage\, Mülheim an der Ruhr
SEQUENCE:0
SUMMARY:WIR SUCHEN NOCH SOLDATEN! „Eine zeitkritische Auseinandersetzung mi
 t Krieg“
UID:e_101249484_iv9
URL:http://pages.destination.one/de/kult-muelheim/streaming/detail/Event/e_
 101249484/wir-suchen-noch-soldaten-eine-zeitkritische-auseinandersetzung-m
 it-krieg
END:VEVENT
BEGIN:VEVENT
CATEGORIES:Ausstellung
DESCRIPTION:\n\nmehr Informationen unter http://pages.destination.one/de/ku
 lt-muelheim/streaming/detail/Event/e_101249484/wir-suchen-noch-soldaten-ei
 ne-zeitkritische-auseinandersetzung-mit-krieg
DTEND;TZID=Europe/Berlin;VALUE=DATE:20260430
DTSTAMP:20260421T082942Z
DTSTART;TZID=Europe/Berlin;VALUE=DATE:20260429
GEO:51.426079;6.878420
LOCATION:MMKM Museum Moderne Kunst Mülheim\, Ruhrstr. 3\, Ecke Delle - Ruhr
 anlage\, Mülheim an der Ruhr
SEQUENCE:0
SUMMARY:WIR SUCHEN NOCH SOLDATEN! „Eine zeitkritische Auseinandersetzung mi
 t Krieg“
UID:e_101249484_iv10
URL:http://pages.destination.one/de/kult-muelheim/streaming/detail/Event/e_
 101249484/wir-suchen-noch-soldaten-eine-zeitkritische-auseinandersetzung-m
 it-krieg
END:VEVENT
BEGIN:VEVENT
CATEGORIES:Ausstellung
DESCRIPTION:\n\nmehr Informationen unter http://pages.destination.one/de/ku
 lt-muelheim/streaming/detail/Event/e_101249484/wir-suchen-noch-soldaten-ei
 ne-zeitkritische-auseinandersetzung-mit-krieg
DTEND;TZID=Europe/Berlin;VALUE=DATE:20260501
DTSTAMP:20260421T082942Z
DTSTART;TZID=Europe/Berlin;VALUE=DATE:20260430
GEO:51.426079;6.878420
LOCATION:MMKM Museum Moderne Kunst Mülheim\, Ruhrstr. 3\, Ecke Delle - Ruhr
 anlage\, Mülheim an der Ruhr
SEQUENCE:0
SUMMARY:WIR SUCHEN NOCH SOLDATEN! „Eine zeitkritische Auseinandersetzung mi
 t Krieg“
UID:e_101249484_iv11
URL:http://pages.destination.one/de/kult-muelheim/streaming/detail/Event/e_
 101249484/wir-suchen-noch-soldaten-eine-zeitkritische-auseinandersetzung-m
 it-krieg
END:VEVENT
BEGIN:VEVENT
CATEGORIES:Ausstellung
DESCRIPTION:\n\nmehr Informationen unter http://pages.destination.one/de/ku
 lt-muelheim/streaming/detail/Event/e_101249484/wir-suchen-noch-soldaten-ei
 ne-zeitkritische-auseinandersetzung-mit-krieg
DTEND;TZID=Europe/Berlin;VALUE=DATE:20260502
DTSTAMP:20260421T082942Z
DTSTART;TZID=Europe/Berlin;VALUE=DATE:20260501
GEO:51.426079;6.878420
LOCATION:MMKM Museum Moderne Kunst Mülheim\, Ruhrstr. 3\, Ecke Delle - Ruhr
 anlage\, Mülheim an der Ruhr
SEQUENCE:0
SUMMARY:WIR SUCHEN NOCH SOLDATEN! „Eine zeitkritische Auseinandersetzung mi
 t Krieg“
UID:e_101249484_iv12
URL:http://pages.destination.one/de/kult-muelheim/streaming/detail/Event/e_
 101249484/wir-suchen-noch-soldaten-eine-zeitkritische-auseinandersetzung-m
 it-krieg
END:VEVENT
BEGIN:VEVENT
CATEGORIES:Ausstellung
DESCRIPTION:\n\nmehr Informationen unter http://pages.destination.one/de/ku
 lt-muelheim/streaming/detail/Event/e_101249484/wir-suchen-noch-soldaten-ei
 ne-zeitkritische-auseinandersetzung-mit-krieg
DTEND;TZID=Europe/Berlin;VALUE=DATE:20260503
DTSTAMP:20260421T082942Z
DTSTART;TZID=Europe/Berlin;VALUE=DATE:20260502
GEO:51.426079;6.878420
LOCATION:MMKM Museum Moderne Kunst Mülheim\, Ruhrstr. 3\, Ecke Delle - Ruhr
 anlage\, Mülheim an der Ruhr
SEQUENCE:0
SUMMARY:WIR SUCHEN NOCH SOLDATEN! „Eine zeitkritische Auseinandersetzung mi
 t Krieg“
UID:e_101249484_iv13
URL:http://pages.destination.one/de/kult-muelheim/streaming/detail/Event/e_
 101249484/wir-suchen-noch-soldaten-eine-zeitkritische-auseinandersetzung-m
 it-krieg
END:VEVENT
BEGIN:VEVENT
CATEGORIES:Ausstellung
DESCRIPTION:\n\nmehr Informationen unter http://pages.destination.one/de/ku
 lt-muelheim/streaming/detail/Event/e_101249484/wir-suchen-noch-soldaten-ei
 ne-zeitkritische-auseinandersetzung-mit-krieg
DTEND;TZID=Europe/Berlin;VALUE=DATE:20260504
DTSTAMP:20260421T082942Z
DTSTART;TZID=Europe/Berlin;VALUE=DATE:20260503
GEO:51.426079;6.878420
LOCATION:MMKM Museum Moderne Kunst Mülheim\, Ruhrstr. 3\, Ecke Delle - Ruhr
 anlage\, Mülheim an der Ruhr
SEQUENCE:0
SUMMARY:WIR SUCHEN NOCH SOLDATEN! „Eine zeitkritische Auseinandersetzung mi
 t Krieg“
UID:e_101249484_iv14
URL:http://pages.destination.one/de/kult-muelheim/streaming/detail/Event/e_
 101249484/wir-suchen-noch-soldaten-eine-zeitkritische-auseinandersetzung-m
 it-krieg
END:VEVENT
BEGIN:VEVENT
CATEGORIES:Ausstellung
DESCRIPTION:\n\nmehr Informationen unter http://pages.destination.one/de/ku
 lt-muelheim/streaming/detail/Event/e_101249484/wir-suchen-noch-soldaten-ei
 ne-zeitkritische-auseinandersetzung-mit-krieg
DTEND;TZID=Europe/Berlin;VALUE=DATE:20260505
DTSTAMP:20260421T082942Z
DTSTART;TZID=Europe/Berlin;VALUE=DATE:20260504
GEO:51.426079;6.878420
LOCATION:MMKM Museum Moderne Kunst Mülheim\, Ruhrstr. 3\, Ecke Delle - Ruhr
 anlage\, Mülheim an der Ruhr
SEQUENCE:0
SUMMARY:WIR SUCHEN NOCH SOLDATEN! „Eine zeitkritische Auseinandersetzung mi
 t Krieg“
UID:e_101249484_iv15
URL:http://pages.destination.one/de/kult-muelheim/streaming/detail/Event/e_
 101249484/wir-suchen-noch-soldaten-eine-zeitkritische-auseinandersetzung-m
 it-krieg
END:VEVENT
BEGIN:VEVENT
CATEGORIES:Ausstellung
DESCRIPTION:\n\nmehr Informationen unter http://pages.destination.one/de/ku
 lt-muelheim/streaming/detail/Event/e_101249484/wir-suchen-noch-soldaten-ei
 ne-zeitkritische-auseinandersetzung-mit-krieg
DTEND;TZID=Europe/Berlin;VALUE=DATE:20260506
DTSTAMP:20260421T082942Z
DTSTART;TZID=Europe/Berlin;VALUE=DATE:20260505
GEO:51.426079;6.878420
LOCATION:MMKM Museum Moderne Kunst Mülheim\, Ruhrstr. 3\, Ecke Delle - Ruhr
 anlage\, Mülheim an der Ruhr
SEQUENCE:0
SUMMARY:WIR SUCHEN NOCH SOLDATEN! „Eine zeitkritische Auseinandersetzung mi
 t Krieg“
UID:e_101249484_iv16
URL:http://pages.destination.one/de/kult-muelheim/streaming/detail/Event/e_
 101249484/wir-suchen-noch-soldaten-eine-zeitkritische-auseinandersetzung-m
 it-krieg
END:VEVENT
BEGIN:VEVENT
CATEGORIES:Ausstellung
DESCRIPTION:\n\nmehr Informationen unter http://pages.destination.one/de/ku
 lt-muelheim/streaming/detail/Event/e_101249484/wir-suchen-noch-soldaten-ei
 ne-zeitkritische-auseinandersetzung-mit-krieg
DTEND;TZID=Europe/Berlin;VALUE=DATE:20260507
DTSTAMP:20260421T082942Z
DTSTART;TZID=Europe/Berlin;VALUE=DATE:20260506
GEO:51.426079;6.878420
LOCATION:MMKM Museum Moderne Kunst Mülheim\, Ruhrstr. 3\, Ecke Delle - Ruhr
 anlage\, Mülheim an der Ruhr
SEQUENCE:0
SUMMARY:WIR SUCHEN NOCH SOLDATEN! „Eine zeitkritische Auseinandersetzung mi
 t Krieg“
UID:e_101249484_iv17
URL:http://pages.destination.one/de/kult-muelheim/streaming/detail/Event/e_
 101249484/wir-suchen-noch-soldaten-eine-zeitkritische-auseinandersetzung-m
 it-krieg
END:VEVENT
BEGIN:VEVENT
CATEGORIES:Ausstellung
DESCRIPTION:\n\nmehr Informationen unter http://pages.destination.one/de/ku
 lt-muelheim/streaming/detail/Event/e_101249484/wir-suchen-noch-soldaten-ei
 ne-zeitkritische-auseinandersetzung-mit-krieg
DTEND;TZID=Europe/Berlin;VALUE=DATE:20260508
DTSTAMP:20260421T082942Z
DTSTART;TZID=Europe/Berlin;VALUE=DATE:20260507
GEO:51.426079;6.878420
LOCATION:MMKM Museum Moderne Kunst Mülheim\, Ruhrstr. 3\, Ecke Delle - Ruhr
 anlage\, Mülheim an der Ruhr
SEQUENCE:0
SUMMARY:WIR SUCHEN NOCH SOLDATEN! „Eine zeitkritische Auseinandersetzung mi
 t Krieg“
UID:e_101249484_iv18
URL:http://pages.destination.one/de/kult-muelheim/streaming/detail/Event/e_
 101249484/wir-suchen-noch-soldaten-eine-zeitkritische-auseinandersetzung-m
 it-krieg
END:VEVENT
BEGIN:VEVENT
CATEGORIES:Ausstellung
DESCRIPTION:\n\nmehr Informationen unter http://pages.destination.one/de/ku
 lt-muelheim/streaming/detail/Event/e_101249484/wir-suchen-noch-soldaten-ei
 ne-zeitkritische-auseinandersetzung-mit-krieg
DTEND;TZID=Europe/Berlin;VALUE=DATE:20260509
DTSTAMP:20260421T082942Z
DTSTART;TZID=Europe/Berlin;VALUE=DATE:20260508
GEO:51.426079;6.878420
LOCATION:MMKM Museum Moderne Kunst Mülheim\, Ruhrstr. 3\, Ecke Delle - Ruhr
 anlage\, Mülheim an der Ruhr
SEQUENCE:0
SUMMARY:WIR SUCHEN NOCH SOLDATEN! „Eine zeitkritische Auseinandersetzung mi
 t Krieg“
UID:e_101249484_iv19
URL:http://pages.destination.one/de/kult-muelheim/streaming/detail/Event/e_
 101249484/wir-suchen-noch-soldaten-eine-zeitkritische-auseinandersetzung-m
 it-krieg
END:VEVENT
BEGIN:VEVENT
CATEGORIES:Ausstellung
DESCRIPTION:\n\nmehr Informationen unter http://pages.destination.one/de/ku
 lt-muelheim/streaming/detail/Event/e_101249484/wir-suchen-noch-soldaten-ei
 ne-zeitkritische-auseinandersetzung-mit-krieg
DTEND;TZID=Europe/Berlin;VALUE=DATE:20260510
DTSTAMP:20260421T082942Z
DTSTART;TZID=Europe/Berlin;VALUE=DATE:20260509
GEO:51.426079;6.878420
LOCATION:MMKM Museum Moderne Kunst Mülheim\, Ruhrstr. 3\, Ecke Delle - Ruhr
 anlage\, Mülheim an der Ruhr
SEQUENCE:0
SUMMARY:WIR SUCHEN NOCH SOLDATEN! „Eine zeitkritische Auseinandersetzung mi
 t Krieg“
UID:e_101249484_iv20
URL:http://pages.destination.one/de/kult-muelheim/streaming/detail/Event/e_
 101249484/wir-suchen-noch-soldaten-eine-zeitkritische-auseinandersetzung-m
 it-krieg
END:VEVENT
BEGIN:VEVENT
CATEGORIES:Ausstellung
DESCRIPTION:\n\nmehr Informationen unter http://pages.destination.one/de/ku
 lt-muelheim/streaming/detail/Event/e_101249484/wir-suchen-noch-soldaten-ei
 ne-zeitkritische-auseinandersetzung-mit-krieg
DTEND;TZID=Europe/Berlin;VALUE=DATE:20260511
DTSTAMP:20260421T082942Z
DTSTART;TZID=Europe/Berlin;VALUE=DATE:20260510
GEO:51.426079;6.878420
LOCATION:MMKM Museum Moderne Kunst Mülheim\, Ruhrstr. 3\, Ecke Delle - Ruhr
 anlage\, Mülheim an der Ruhr
SEQUENCE:0
SUMMARY:WIR SUCHEN NOCH SOLDATEN! „Eine zeitkritische Auseinandersetzung mi
 t Krieg“
UID:e_101249484_iv21
URL:http://pages.destination.one/de/kult-muelheim/streaming/detail/Event/e_
 101249484/wir-suchen-noch-soldaten-eine-zeitkritische-auseinandersetzung-m
 it-krieg
END:VEVENT
BEGIN:VTIMEZONE
TZID:Europe/Berlin
X-LIC-LOCATION:Europe/Berlin
BEGIN:DAYLIGHT
DTSTART:19700329T020000
RRULE:FREQ=YEARLY;BYDAY=-1SU;BYMONTH=3
TZNAME:CEST
TZOFFSETFROM:+0100
TZOFFSETTO:+0200
END:DAYLIGHT
BEGIN:STANDARD
DTSTART:19701025T030000
RRULE:FREQ=YEARLY;BYDAY=-1SU;BYMONTH=10
TZNAME:CET
TZOFFSETFROM:+0200
TZOFFSETTO:+0100
END:STANDARD
END:VTIMEZONE
END:VCALENDAR
