BEGIN:VCALENDAR
VERSION:2.0
PRODID:-//destination.one//NONSGML destination.meta API//DE
X-WR-CALDESC:A calendar powered by destination.meta
X-WR-CALNAME:kult-muelheim Kalender via destination.meta
BEGIN:VEVENT
CATEGORIES:Sonstiges
DESCRIPTION:\n\nmehr Informationen unter http://pages.destination.one/de/ku
 lt-muelheim/streaming/detail/Event/e_101258069/heute-nacht-um-03-34-uhr
DTEND;TZID=Europe/Berlin:20260517T235900
DTSTAMP:20260421T095601Z
DTSTART;TZID=Europe/Berlin:20260517T160000
GEO:51.436120;6.824050
LOCATION:Theater an der Ruhr\, Akazienallee 61\, Mülheim an der Ruhr
SEQUENCE:0
SUMMARY:Heute Nacht um 03.34 Uhr
UID:e_101258069_iv0
URL:http://pages.destination.one/de/kult-muelheim/streaming/detail/Event/e_
 101258069/heute-nacht-um-03-34-uhr
END:VEVENT
BEGIN:VEVENT
CATEGORIES:Sonstiges
DESCRIPTION:\n\nmehr Informationen unter http://pages.destination.one/de/ku
 lt-muelheim/streaming/detail/Event/e_101258069/heute-nacht-um-03-34-uhr
DTEND;TZID=Europe/Berlin:20260518T235900
DTSTAMP:20260421T095601Z
DTSTART;TZID=Europe/Berlin:20260518T090000
GEO:51.436120;6.824050
LOCATION:Theater an der Ruhr\, Akazienallee 61\, Mülheim an der Ruhr
SEQUENCE:0
SUMMARY:Heute Nacht um 03.34 Uhr
UID:e_101258069_iv1
URL:http://pages.destination.one/de/kult-muelheim/streaming/detail/Event/e_
 101258069/heute-nacht-um-03-34-uhr
END:VEVENT
BEGIN:VEVENT
CATEGORIES:Sonstiges
DESCRIPTION:\n\nmehr Informationen unter http://pages.destination.one/de/ku
 lt-muelheim/streaming/detail/Event/e_101258069/heute-nacht-um-03-34-uhr
DTEND;TZID=Europe/Berlin:20260518T235900
DTSTAMP:20260421T095601Z
DTSTART;TZID=Europe/Berlin:20260518T110000
GEO:51.436120;6.824050
LOCATION:Theater an der Ruhr\, Akazienallee 61\, Mülheim an der Ruhr
SEQUENCE:0
SUMMARY:Heute Nacht um 03.34 Uhr
UID:e_101258069_iv2
URL:http://pages.destination.one/de/kult-muelheim/streaming/detail/Event/e_
 101258069/heute-nacht-um-03-34-uhr
END:VEVENT
BEGIN:VTIMEZONE
TZID:Europe/Berlin
X-LIC-LOCATION:Europe/Berlin
BEGIN:DAYLIGHT
DTSTART:19700329T020000
RRULE:FREQ=YEARLY;BYDAY=-1SU;BYMONTH=3
TZNAME:CEST
TZOFFSETFROM:+0100
TZOFFSETTO:+0200
END:DAYLIGHT
BEGIN:STANDARD
DTSTART:19701025T030000
RRULE:FREQ=YEARLY;BYDAY=-1SU;BYMONTH=10
TZNAME:CET
TZOFFSETFROM:+0200
TZOFFSETTO:+0100
END:STANDARD
END:VTIMEZONE
END:VCALENDAR
